BEGIN:VCALENDAR
VERSION:2.0
PRODID:-//Wellers Hill Bowls Club - ECPv6.15.16//NONSGML v1.0//EN
CALSCALE:GREGORIAN
METHOD:PUBLISH
X-WR-CALNAME:Wellers Hill Bowls Club
X-ORIGINAL-URL:https://staging.whbowls.org.au
X-WR-CALDESC:Events for Wellers Hill Bowls Club
REFRESH-INTERVAL;VALUE=DURATION:PT1H
X-Robots-Tag:noindex
X-PUBLISHED-TTL:PT1H
BEGIN:VTIMEZONE
TZID:Australia/Brisbane
BEGIN:STANDARD
TZOFFSETFROM:+1000
TZOFFSETTO:+1000
TZNAME:AEST
DTSTART:20250101T000000
END:STANDARD
END:VTIMEZONE
BEGIN:VEVENT
DTSTART;TZID=Australia/Brisbane:20260124T140000
DTEND;TZID=Australia/Brisbane:20260124T190000
DTSTAMP:20260420T122012
CREATED:20251228T005715Z
LAST-MODIFIED:20251228T005715Z
UID:3344-1769263200-1769281200@staging.whbowls.org.au
SUMMARY:Pew Pew BBQ
DESCRIPTION:SEQ Based Pew Pew BBQ Food truck brings the Finest Grilled Cuisine to you.
URL:https://staging.whbowls.org.au/event/pew-pew-bbq-3/
LOCATION:Wellers Hill Bowls Club\, 34 Esher Street\, Tarragindi\, Queensland\, 4121\, Australia
CATEGORIES:Food Trucks
END:VEVENT
END:VCALENDAR