BEGIN:VCALENDAR
VERSION:2.0
PRODID:-//Wellers Hill Bowls Club - ECPv6.15.16//NONSGML v1.0//EN
CALSCALE:GREGORIAN
METHOD:PUBLISH
X-WR-CALNAME:Wellers Hill Bowls Club
X-ORIGINAL-URL:https://staging.whbowls.org.au
X-WR-CALDESC:Events for Wellers Hill Bowls Club
REFRESH-INTERVAL;VALUE=DURATION:PT1H
X-Robots-Tag:noindex
X-PUBLISHED-TTL:PT1H
BEGIN:VTIMEZONE
TZID:Australia/Brisbane
BEGIN:STANDARD
TZOFFSETFROM:+1000
TZOFFSETTO:+1000
TZNAME:AEST
DTSTART:20250101T000000
END:STANDARD
END:VTIMEZONE
BEGIN:VEVENT
DTSTART;TZID=Australia/Brisbane:20260213T170000
DTEND;TZID=Australia/Brisbane:20260213T200000
DTSTAMP:20260420T122034
CREATED:20260208T070647Z
LAST-MODIFIED:20260208T070647Z
UID:3370-1771002000-1771012800@staging.whbowls.org.au
SUMMARY:Roam'In Pizza
DESCRIPTION:Here at Roamin’ Pizza\, we are one of Brisbane’s most well-respected and requested wood-fired mobile pizza catering services—for a good reason. Our unique party-catering\, takeaway shop\, and food truck services offer a chance to experience delicious\, traditional Italian wood-fired pizza. \n\n\n\n\nFrom home parties and corporate events to wedding catering\, we offer various options for all occasions. The best part is that we do all the setup\, cooking\, and cleaning so that you can focus on enjoying yourself. There is a new food truck revolution in Brisbane\, with a growing trend of healthy food trucks hitting the streets and serving up some of Brisbane’s finest healthy eats. \n\n\n\n\nSo\, if you’re looking for premium-quality wood-fired pizza catering in Brisbane or a tremendous takeaway pizza\, don’t hesitate to contact us at 1300 433 341 or order online today.
URL:https://staging.whbowls.org.au/event/roamin-pizza/
LOCATION:Wellers Hill Bowls Club\, 34 Esher Street\, Tarragindi\, Queensland\, 4121\, Australia
CATEGORIES:Food Trucks
END:VEVENT
END:VCALENDAR