BEGIN:VCALENDAR
VERSION:2.0
PRODID:-//Wellers Hill Bowls Club - ECPv6.15.16//NONSGML v1.0//EN
CALSCALE:GREGORIAN
METHOD:PUBLISH
X-ORIGINAL-URL:https://staging.whbowls.org.au
X-WR-CALDESC:Events for Wellers Hill Bowls Club
REFRESH-INTERVAL;VALUE=DURATION:PT1H
X-Robots-Tag:noindex
X-PUBLISHED-TTL:PT1H
BEGIN:VTIMEZONE
TZID:Australia/Brisbane
BEGIN:STANDARD
TZOFFSETFROM:+1000
TZOFFSETTO:+1000
TZNAME:AEST
DTSTART:20250101T000000
END:STANDARD
END:VTIMEZONE
BEGIN:VEVENT
DTSTART;TZID=Australia/Brisbane:20260301T140000
DTEND;TZID=Australia/Brisbane:20260301T190000
DTSTAMP:20260420T083415
CREATED:20260208T071742Z
LAST-MODIFIED:20260208T071742Z
UID:3385-1772373600-1772391600@staging.whbowls.org.au
SUMMARY:Oyo Nigiri
DESCRIPTION:Follow Ono Nigiri on Instagram : Oyonigiri (@oyonigiri_gc) • Instagram photos and videos
URL:https://staging.whbowls.org.au/event/oyo-nigiri/
LOCATION:Wellers Hill Bowls Club\, 34 Esher Street\, Tarragindi\, Queensland\, 4121\, Australia
CATEGORIES:Food Trucks
END:VEVENT
END:VCALENDAR