BEGIN:VCALENDAR
VERSION:2.0
PRODID:-//Wellers Hill Bowls Club - ECPv6.15.16//NONSGML v1.0//EN
CALSCALE:GREGORIAN
METHOD:PUBLISH
X-WR-CALNAME:Wellers Hill Bowls Club
X-ORIGINAL-URL:https://staging.whbowls.org.au
X-WR-CALDESC:Events for Wellers Hill Bowls Club
REFRESH-INTERVAL;VALUE=DURATION:PT1H
X-Robots-Tag:noindex
X-PUBLISHED-TTL:PT1H
BEGIN:VTIMEZONE
TZID:Australia/Brisbane
BEGIN:STANDARD
TZOFFSETFROM:+1000
TZOFFSETTO:+1000
TZNAME:AEST
DTSTART:20250101T000000
END:STANDARD
END:VTIMEZONE
BEGIN:VEVENT
DTSTART;TZID=Australia/Brisbane:20260314T140000
DTEND;TZID=Australia/Brisbane:20260314T190000
DTSTAMP:20260420T175423
CREATED:20260208T072518Z
LAST-MODIFIED:20260208T072518Z
UID:3395-1773496800-1773514800@staging.whbowls.org.au
SUMMARY:Sakura Fest
DESCRIPTION:Saturday\, March 14\, 2026 1:00 PM – 7:00 PMVenue: Wellers Hill Bowls Club�(34 Esher St\, Tarragindi\, QLD)\nDespite being our first-ever event\, we were overwhelmed by the number of visitors who joined us last year and received so many heartwarming questions asking\, “When is the next one?”ーnow we can finally announce it \n What you can enjoy at Sakurafest 2026 \n Authentic Japanese food & beverage� Traditional Japanese market stalls Exciting stage performances Kids’ corner with fun activities Japanese whisky & sake booths Chat Time – a Japanese & English language exchange space\n NEW this year! We’re planning a sticker activity Choose a sticker like\n「にほんごを話したい(I want to speak Japanese)」 “I want to speak English”and wear it during the event — you might just make a new friend while enjoying Sakurafest \nA day full of Japanese culture\, connection\, and fun.Bring your friends\, family\, and your curiosity — everyone is welcome \n Follow @sakurafest.brisbane for updates\, stall announcements\, and more!
URL:https://staging.whbowls.org.au/event/sakura-fest/
LOCATION:Wellers Hill Bowls Club\, 34 Esher Street\, Tarragindi\, Queensland\, 4121\, Australia
CATEGORIES:Community Events
END:VEVENT
END:VCALENDAR