BEGIN:VCALENDAR
VERSION:2.0
PRODID:-//Wellers Hill Bowls Club - ECPv6.15.16//NONSGML v1.0//EN
CALSCALE:GREGORIAN
METHOD:PUBLISH
X-ORIGINAL-URL:https://staging.whbowls.org.au
X-WR-CALDESC:Events for Wellers Hill Bowls Club
REFRESH-INTERVAL;VALUE=DURATION:PT1H
X-Robots-Tag:noindex
X-PUBLISHED-TTL:PT1H
BEGIN:VTIMEZONE
TZID:Australia/Brisbane
BEGIN:STANDARD
TZOFFSETFROM:+1000
TZOFFSETTO:+1000
TZNAME:AEST
DTSTART:20240101T000000
END:STANDARD
END:VTIMEZONE
BEGIN:VEVENT
DTSTART;TZID=Australia/Brisbane:20250910T170000
DTEND;TZID=Australia/Brisbane:20250910T200000
DTSTAMP:20260420T140054
CREATED:20250906T230214Z
LAST-MODIFIED:20250906T230239Z
UID:2599-1757523600-1757534400@staging.whbowls.org.au
SUMMARY:Socal Tacos
DESCRIPTION:Authentic Southern Californian tacos\, nachos\, tortas and burrito bowls\, and a retro food truck available for Event hire\, Festivals & Special Events!!
URL:https://staging.whbowls.org.au/event/socal-tacos/
LOCATION:Wellers Hill Bowls Club\, 34 Esher Street\, Tarragindi\, Queensland\, 4121\, Australia
CATEGORIES:Food Trucks
END:VEVENT
BEGIN:VEVENT
DTSTART;TZID=Australia/Brisbane:20250911T180000
DTEND;TZID=Australia/Brisbane:20250911T200000
DTSTAMP:20260420T140054
CREATED:20250906T231248Z
LAST-MODIFIED:20250906T231248Z
UID:2612-1757613600-1757620800@staging.whbowls.org.au
SUMMARY:Socal Tacos
DESCRIPTION:Authentic Southern Californian tacos\, nachos\, tortas and burrito bowls\, and a retro food truck available for Event hire\, Festivals & Special Events!!
URL:https://staging.whbowls.org.au/event/socal-tacos-2/
LOCATION:Wellers Hill Bowls Club\, 34 Esher Street\, Tarragindi\, Queensland\, 4121\, Australia
CATEGORIES:Food Trucks
END:VEVENT
BEGIN:VEVENT
DTSTART;TZID=Australia/Brisbane:20250913T140000
DTEND;TZID=Australia/Brisbane:20250913T200000
DTSTAMP:20260420T140054
CREATED:20250906T231536Z
LAST-MODIFIED:20250906T231536Z
UID:2614-1757772000-1757793600@staging.whbowls.org.au
SUMMARY:Food Baby
DESCRIPTION:Food Baby is a Brisbane-based food truck\, serving up delicious food from a unique\, vintage American Chevy Step Van.
URL:https://staging.whbowls.org.au/event/food-baby/
LOCATION:Queensland
CATEGORIES:Food Trucks
END:VEVENT
BEGIN:VEVENT
DTSTART;TZID=Australia/Brisbane:20250914T140000
DTEND;TZID=Australia/Brisbane:20250914T200000
DTSTAMP:20260420T140054
CREATED:20250906T231931Z
LAST-MODIFIED:20250906T231931Z
UID:2616-1757858400-1757880000@staging.whbowls.org.au
SUMMARY:Yummy Nami
DESCRIPTION:Brisbane’s Favourite Mobile Japanese Kitchen \nOrder online: Order Online | Yummy Nami
URL:https://staging.whbowls.org.au/event/yummy-nami/
LOCATION:Queensland
CATEGORIES:Food Trucks
END:VEVENT
BEGIN:VEVENT
DTSTART;TZID=Australia/Brisbane:20250910T170000
DTEND;TZID=Australia/Brisbane:20250910T200000
DTSTAMP:20260420T140054
CREATED:20250906T230214Z
LAST-MODIFIED:20250906T230239Z
UID:2599-1757523600-1757534400@staging.whbowls.org.au
SUMMARY:Socal Tacos
DESCRIPTION:Authentic Southern Californian tacos\, nachos\, tortas and burrito bowls\, and a retro food truck available for Event hire\, Festivals & Special Events!!
URL:https://staging.whbowls.org.au/event/socal-tacos/
LOCATION:Wellers Hill Bowls Club\, 34 Esher Street\, Tarragindi\, Queensland\, 4121\, Australia
CATEGORIES:Food Trucks
END:VEVENT
BEGIN:VEVENT
DTSTART;TZID=Australia/Brisbane:20250918T180000
DTEND;TZID=Australia/Brisbane:20250918T200000
DTSTAMP:20260420T140054
CREATED:20250906T232340Z
LAST-MODIFIED:20250906T232531Z
UID:2618-1758218400-1758225600@staging.whbowls.org.au
SUMMARY:Food Baby
DESCRIPTION:Food Baby is a Brisbane-based food truck\, serving up delicious food from a unique\, vintage American Chevy Step Van.\nWebsite: https://www.foodbabyfoodtruck.com.au/
URL:https://staging.whbowls.org.au/event/food-baby-2/
LOCATION:Queensland
CATEGORIES:Food Trucks
END:VEVENT
BEGIN:VEVENT
DTSTART;TZID=Australia/Brisbane:20250919T170000
DTEND;TZID=Australia/Brisbane:20250919T200000
DTSTAMP:20260420T140054
CREATED:20250906T233105Z
LAST-MODIFIED:20250906T233105Z
UID:2620-1758301200-1758312000@staging.whbowls.org.au
SUMMARY:Rebel Fork
DESCRIPTION:Rebel Fork food truck offers tasty burgers and fries\, see their menu here: rebelfork.com.au – Menu\, Catering Menu
URL:https://staging.whbowls.org.au/event/rebel-fork/
LOCATION:Queensland
CATEGORIES:Food Trucks
END:VEVENT
BEGIN:VEVENT
DTSTART;TZID=Australia/Brisbane:20250920T140000
DTEND;TZID=Australia/Brisbane:20250920T200000
DTSTAMP:20260420T140054
CREATED:20250906T233435Z
LAST-MODIFIED:20250906T233435Z
UID:2622-1758376800-1758398400@staging.whbowls.org.au
SUMMARY:Toasted Foods
DESCRIPTION:TOASTED FOODS  serve gourmet loaded toasties\, or if you’re looking for something gluten free\, get your hands on our TFC crispy fried chicken wings\, loaded fries\, or slow cooked maple pork belly bites.
URL:https://staging.whbowls.org.au/event/toasted-foods/
LOCATION:Wellers Hill Bowls Club\, 34 Esher Street\, Tarragindi\, Queensland\, 4121\, Australia
CATEGORIES:Food Trucks
END:VEVENT
BEGIN:VEVENT
DTSTART;TZID=Australia/Brisbane:20250921T140000
DTEND;TZID=Australia/Brisbane:20250921T200000
DTSTAMP:20260420T140054
CREATED:20250907T071631Z
LAST-MODIFIED:20250907T071631Z
UID:2675-1758463200-1758484800@staging.whbowls.org.au
SUMMARY:Notorious E.A.T.
DESCRIPTION:Serving bold American street food with flair\, Notorious E.A.T. brings unforgettable eats straight to your event. From weddings and birthdays to corporate functions\, we roll in\, fire up\, and feed your crew with flavour-packed food that gets guests talking.\nWebsite: https://notoriouseat.com.au/
URL:https://staging.whbowls.org.au/event/notorious-e-a-t/
LOCATION:Wellers Hill Bowls Club\, 34 Esher Street\, Tarragindi\, Queensland\, 4121\, Australia
CATEGORIES:Food Trucks
END:VEVENT
BEGIN:VEVENT
DTSTART;TZID=Australia/Brisbane:20250910T170000
DTEND;TZID=Australia/Brisbane:20250910T200000
DTSTAMP:20260420T140054
CREATED:20250906T230214Z
LAST-MODIFIED:20250906T230239Z
UID:2599-1757523600-1757534400@staging.whbowls.org.au
SUMMARY:Socal Tacos
DESCRIPTION:Authentic Southern Californian tacos\, nachos\, tortas and burrito bowls\, and a retro food truck available for Event hire\, Festivals & Special Events!!
URL:https://staging.whbowls.org.au/event/socal-tacos/
LOCATION:Wellers Hill Bowls Club\, 34 Esher Street\, Tarragindi\, Queensland\, 4121\, Australia
CATEGORIES:Food Trucks
END:VEVENT
BEGIN:VEVENT
DTSTART;TZID=Australia/Brisbane:20250925T180000
DTEND;TZID=Australia/Brisbane:20250925T200000
DTSTAMP:20260420T140054
CREATED:20250907T071908Z
LAST-MODIFIED:20250907T071908Z
UID:2677-1758823200-1758830400@staging.whbowls.org.au
SUMMARY:Socal Tacos
DESCRIPTION:Authentic Southern Californian tacos\, nachos\, tortas and burrito bowls\, and a retro food truck available for Event hire\, Festivals & Special Events!!
URL:https://staging.whbowls.org.au/event/socal-tacos-3/
LOCATION:Wellers Hill Bowls Club\, 34 Esher Street\, Tarragindi\, Queensland\, 4121\, Australia
CATEGORIES:Food Trucks
END:VEVENT
BEGIN:VEVENT
DTSTART;TZID=Australia/Brisbane:20250926T170000
DTEND;TZID=Australia/Brisbane:20250926T200000
DTSTAMP:20260420T140054
CREATED:20250907T072118Z
LAST-MODIFIED:20250907T072118Z
UID:2679-1758906000-1758916800@staging.whbowls.org.au
SUMMARY:Yummy Nami
DESCRIPTION:Brisbane’s Favourite Mobile Japanese Kitchen \nOrder online: Order Online | Yummy Nami
URL:https://staging.whbowls.org.au/event/yummy-nami-2/
LOCATION:Wellers Hill Bowls Club\, 34 Esher Street\, Tarragindi\, Queensland\, 4121\, Australia
CATEGORIES:Food Trucks
END:VEVENT
BEGIN:VEVENT
DTSTART;TZID=Australia/Brisbane:20250927T140000
DTEND;TZID=Australia/Brisbane:20250927T200000
DTSTAMP:20260420T140054
CREATED:20250907T072210Z
LAST-MODIFIED:20250907T072210Z
UID:2681-1758981600-1759003200@staging.whbowls.org.au
SUMMARY:Food Baby
DESCRIPTION:Food Baby is a Brisbane-based food truck\, serving up delicious food from a unique\, vintage American Chevy Step Van.
URL:https://staging.whbowls.org.au/event/food-baby-3/
LOCATION:Wellers Hill Bowls Club\, 34 Esher Street\, Tarragindi\, Queensland\, 4121\, Australia
CATEGORIES:Food Trucks
END:VEVENT
BEGIN:VEVENT
DTSTART;TZID=Australia/Brisbane:20250928T140000
DTEND;TZID=Australia/Brisbane:20250928T200000
DTSTAMP:20260420T140054
CREATED:20250907T072406Z
LAST-MODIFIED:20250907T072406Z
UID:2683-1759068000-1759089600@staging.whbowls.org.au
SUMMARY:Toasted Foods
DESCRIPTION:TOASTED FOODS  serve gourmet loaded toasties\, or if you’re looking for something gluten free\, get your hands on our TFC crispy fried chicken wings\, loaded fries\, or slow cooked maple pork belly bites.
URL:https://staging.whbowls.org.au/event/toasted-foods-2/
LOCATION:Wellers Hill Bowls Club\, 34 Esher Street\, Tarragindi\, Queensland\, 4121\, Australia
CATEGORIES:Food Trucks
END:VEVENT
END:VCALENDAR