BEGIN:VCALENDAR
VERSION:2.0
PRODID:-//Wellers Hill Bowls Club - ECPv6.15.16//NONSGML v1.0//EN
CALSCALE:GREGORIAN
METHOD:PUBLISH
X-ORIGINAL-URL:https://staging.whbowls.org.au
X-WR-CALDESC:Events for Wellers Hill Bowls Club
REFRESH-INTERVAL;VALUE=DURATION:PT1H
X-Robots-Tag:noindex
X-PUBLISHED-TTL:PT1H
BEGIN:VTIMEZONE
TZID:Australia/Brisbane
BEGIN:STANDARD
TZOFFSETFROM:+1000
TZOFFSETTO:+1000
TZNAME:AEST
DTSTART:20240101T000000
END:STANDARD
END:VTIMEZONE
BEGIN:VEVENT
DTSTART;TZID=Australia/Brisbane:20260301T140000
DTEND;TZID=Australia/Brisbane:20260301T190000
DTSTAMP:20260420T140105
CREATED:20260208T071742Z
LAST-MODIFIED:20260208T071742Z
UID:3385-1772373600-1772391600@staging.whbowls.org.au
SUMMARY:Oyo Nigiri
DESCRIPTION:Follow Ono Nigiri on Instagram : Oyonigiri (@oyonigiri_gc) • Instagram photos and videos
URL:https://staging.whbowls.org.au/event/oyo-nigiri/
LOCATION:Wellers Hill Bowls Club\, 34 Esher Street\, Tarragindi\, Queensland\, 4121\, Australia
CATEGORIES:Food Trucks
END:VEVENT
BEGIN:VEVENT
DTSTART;TZID=Australia/Brisbane:20250910T170000
DTEND;TZID=Australia/Brisbane:20250910T200000
DTSTAMP:20260420T140105
CREATED:20250906T230214Z
LAST-MODIFIED:20250906T230239Z
UID:2599-1757523600-1757534400@staging.whbowls.org.au
SUMMARY:Socal Tacos
DESCRIPTION:Authentic Southern Californian tacos\, nachos\, tortas and burrito bowls\, and a retro food truck available for Event hire\, Festivals & Special Events!!
URL:https://staging.whbowls.org.au/event/socal-tacos/
LOCATION:Wellers Hill Bowls Club\, 34 Esher Street\, Tarragindi\, Queensland\, 4121\, Australia
CATEGORIES:Food Trucks
END:VEVENT
BEGIN:VEVENT
DTSTART;TZID=Australia/Brisbane:20260306T170000
DTEND;TZID=Australia/Brisbane:20260306T200000
DTSTAMP:20260420T140105
CREATED:20260208T071907Z
LAST-MODIFIED:20260208T071907Z
UID:3387-1772816400-1772827200@staging.whbowls.org.au
SUMMARY:Toasted Foods
DESCRIPTION:TOASTED FOODS  serve gourmet loaded toasties\, or if you’re looking for something gluten free\, get your hands on our TFC crispy fried chicken wings\, loaded fries\, or slow cooked maple pork belly bites.
URL:https://staging.whbowls.org.au/event/toasted-foods-9/
LOCATION:Wellers Hill Bowls Club\, 34 Esher Street\, Tarragindi\, Queensland\, 4121\, Australia
CATEGORIES:Food Trucks
END:VEVENT
BEGIN:VEVENT
DTSTART;TZID=Australia/Brisbane:20260307T140000
DTEND;TZID=Australia/Brisbane:20260307T200000
DTSTAMP:20260420T140105
CREATED:20260208T072025Z
LAST-MODIFIED:20260208T072025Z
UID:3389-1772892000-1772913600@staging.whbowls.org.au
SUMMARY:Yummy Nami
DESCRIPTION:Brisbane’s Favourite Mobile Japanese Kitchen \nOrder online: Order Online | Yummy Nami
URL:https://staging.whbowls.org.au/event/yummy-nami-5/
LOCATION:Wellers Hill Bowls Club\, 34 Esher Street\, Tarragindi\, Queensland\, 4121\, Australia
CATEGORIES:Food Trucks
END:VEVENT
BEGIN:VEVENT
DTSTART;TZID=Australia/Brisbane:20260308T140000
DTEND;TZID=Australia/Brisbane:20260308T200000
DTSTAMP:20260420T140105
CREATED:20260208T072114Z
LAST-MODIFIED:20260208T072114Z
UID:3391-1772978400-1773000000@staging.whbowls.org.au
SUMMARY:Mr Tokyo Dog
DESCRIPTION:Mr Tokyo Dog serves up a delicious hand-crafted Japanese style crispy Wings\, Hot Dogs and Burgers at special events in and around the Brisbane region. This delicious fusion of Japanese and western culture\, along with sides of coleslaw and chips\, results on a distinct and flavoursome taste. \nTheir awesome menu features a range of delightful dishes such as Wings and Chips\, Teriyaki-Mayo Dog\, Honey-Wasabi Dog\, Japa-Curry Roll\, Karaage Burger\, Veg Croquette Burger\, Teriyaki Karaage Bowl\, Pork Kimchi Bowl and more. One can’t go past the Okonomi Dog – a Cheese Kransky sausage topped with Japanese mayonnaise\, Japanese Worcestershire sauce\, shallot\, Katsuobushi and red pickled ginger.
URL:https://staging.whbowls.org.au/event/mr-tokyo-dog-2/
LOCATION:Wellers Hill Bowls Club\, 34 Esher Street\, Tarragindi\, Queensland\, 4121\, Australia
CATEGORIES:Food Trucks
END:VEVENT
BEGIN:VEVENT
DTSTART;TZID=Australia/Brisbane:20250910T170000
DTEND;TZID=Australia/Brisbane:20250910T200000
DTSTAMP:20260420T140105
CREATED:20250906T230214Z
LAST-MODIFIED:20250906T230239Z
UID:2599-1757523600-1757534400@staging.whbowls.org.au
SUMMARY:Socal Tacos
DESCRIPTION:Authentic Southern Californian tacos\, nachos\, tortas and burrito bowls\, and a retro food truck available for Event hire\, Festivals & Special Events!!
URL:https://staging.whbowls.org.au/event/socal-tacos/
LOCATION:Wellers Hill Bowls Club\, 34 Esher Street\, Tarragindi\, Queensland\, 4121\, Australia
CATEGORIES:Food Trucks
END:VEVENT
BEGIN:VEVENT
DTSTART;TZID=Australia/Brisbane:20260313T170000
DTEND;TZID=Australia/Brisbane:20260313T200000
DTSTAMP:20260420T140105
CREATED:20260208T072245Z
LAST-MODIFIED:20260208T072245Z
UID:3393-1773421200-1773432000@staging.whbowls.org.au
SUMMARY:Pew Pew BBQ
DESCRIPTION:SEQ Based Pew Pew BBQ Food truck brings the Finest Grilled Cuisine to you.
URL:https://staging.whbowls.org.au/event/pew-pew-bbq-5/
LOCATION:Wellers Hill Bowls Club\, 34 Esher Street\, Tarragindi\, Queensland\, 4121\, Australia
CATEGORIES:Food Trucks
END:VEVENT
BEGIN:VEVENT
DTSTART;TZID=Australia/Brisbane:20260315T140000
DTEND;TZID=Australia/Brisbane:20260315T190000
DTSTAMP:20260420T140105
CREATED:20260208T072620Z
LAST-MODIFIED:20260208T072620Z
UID:3397-1773583200-1773601200@staging.whbowls.org.au
SUMMARY:My Latino Fusion
DESCRIPTION:My Latino Fusion is a specialist in a fusion of unique flavours from Latin American Gourmet Food.
URL:https://staging.whbowls.org.au/event/my-latino-fusion-7/
LOCATION:Wellers Hill Bowls Club\, 34 Esher Street\, Tarragindi\, Queensland\, 4121\, Australia
CATEGORIES:Food Trucks
END:VEVENT
BEGIN:VEVENT
DTSTART;TZID=Australia/Brisbane:20250910T170000
DTEND;TZID=Australia/Brisbane:20250910T200000
DTSTAMP:20260420T140105
CREATED:20250906T230214Z
LAST-MODIFIED:20250906T230239Z
UID:2599-1757523600-1757534400@staging.whbowls.org.au
SUMMARY:Socal Tacos
DESCRIPTION:Authentic Southern Californian tacos\, nachos\, tortas and burrito bowls\, and a retro food truck available for Event hire\, Festivals & Special Events!!
URL:https://staging.whbowls.org.au/event/socal-tacos/
LOCATION:Wellers Hill Bowls Club\, 34 Esher Street\, Tarragindi\, Queensland\, 4121\, Australia
CATEGORIES:Food Trucks
END:VEVENT
BEGIN:VEVENT
DTSTART;TZID=Australia/Brisbane:20260320T170000
DTEND;TZID=Australia/Brisbane:20260320T200000
DTSTAMP:20260420T140105
CREATED:20260208T072715Z
LAST-MODIFIED:20260208T072715Z
UID:3399-1774026000-1774036800@staging.whbowls.org.au
SUMMARY:Yummy Nami
DESCRIPTION:Brisbane’s Favourite Mobile Japanese Kitchen \nOrder online: Order Online | Yummy Nami
URL:https://staging.whbowls.org.au/event/yummy-nami-6/
LOCATION:Wellers Hill Bowls Club\, 34 Esher Street\, Tarragindi\, Queensland\, 4121\, Australia
CATEGORIES:Food Trucks
END:VEVENT
BEGIN:VEVENT
DTSTART;TZID=Australia/Brisbane:20260321T140000
DTEND;TZID=Australia/Brisbane:20260321T200000
DTSTAMP:20260420T140105
CREATED:20260208T073118Z
LAST-MODIFIED:20260208T073118Z
UID:3401-1774101600-1774123200@staging.whbowls.org.au
SUMMARY:Pacos Tacos
DESCRIPTION:Traditional Mexicana
URL:https://staging.whbowls.org.au/event/pacos-tacos/
LOCATION:Wellers Hill Bowls Club\, 34 Esher Street\, Tarragindi\, Queensland\, 4121\, Australia
CATEGORIES:Food Trucks
END:VEVENT
BEGIN:VEVENT
DTSTART;TZID=Australia/Brisbane:20260322T140000
DTEND;TZID=Australia/Brisbane:20260322T190000
DTSTAMP:20260420T140105
CREATED:20260208T073206Z
LAST-MODIFIED:20260208T073206Z
UID:3403-1774188000-1774206000@staging.whbowls.org.au
SUMMARY:Toasted Foods
DESCRIPTION:TOASTED FOODS  serve gourmet loaded toasties\, or if you’re looking for something gluten free\, get your hands on our TFC crispy fried chicken wings\, loaded fries\, or slow cooked maple pork belly bites.
URL:https://staging.whbowls.org.au/event/toasted-foods-10/
LOCATION:Wellers Hill Bowls Club\, 34 Esher Street\, Tarragindi\, Queensland\, 4121\, Australia
CATEGORIES:Food Trucks
END:VEVENT
BEGIN:VEVENT
DTSTART;TZID=Australia/Brisbane:20250910T170000
DTEND;TZID=Australia/Brisbane:20250910T200000
DTSTAMP:20260420T140105
CREATED:20250906T230214Z
LAST-MODIFIED:20250906T230239Z
UID:2599-1757523600-1757534400@staging.whbowls.org.au
SUMMARY:Socal Tacos
DESCRIPTION:Authentic Southern Californian tacos\, nachos\, tortas and burrito bowls\, and a retro food truck available for Event hire\, Festivals & Special Events!!
URL:https://staging.whbowls.org.au/event/socal-tacos/
LOCATION:Wellers Hill Bowls Club\, 34 Esher Street\, Tarragindi\, Queensland\, 4121\, Australia
CATEGORIES:Food Trucks
END:VEVENT
BEGIN:VEVENT
DTSTART;TZID=Australia/Brisbane:20260327T170000
DTEND;TZID=Australia/Brisbane:20260327T200000
DTSTAMP:20260420T140105
CREATED:20260208T073252Z
LAST-MODIFIED:20260208T073252Z
UID:3405-1774630800-1774641600@staging.whbowls.org.au
SUMMARY:Toasted Foods
DESCRIPTION:TOASTED FOODS  serve gourmet loaded toasties\, or if you’re looking for something gluten free\, get your hands on our TFC crispy fried chicken wings\, loaded fries\, or slow cooked maple pork belly bites.
URL:https://staging.whbowls.org.au/event/toasted-foods-11/
LOCATION:Wellers Hill Bowls Club\, 34 Esher Street\, Tarragindi\, Queensland\, 4121\, Australia
CATEGORIES:Food Trucks
END:VEVENT
BEGIN:VEVENT
DTSTART;TZID=Australia/Brisbane:20260328T140000
DTEND;TZID=Australia/Brisbane:20260328T190000
DTSTAMP:20260420T140105
CREATED:20260208T073604Z
LAST-MODIFIED:20260208T073604Z
UID:3407-1774706400-1774724400@staging.whbowls.org.au
SUMMARY:Mr Jeebus
DESCRIPTION:
URL:https://staging.whbowls.org.au/event/mr-jeebus/
LOCATION:Queensland
CATEGORIES:Food Trucks
END:VEVENT
BEGIN:VEVENT
DTSTART;TZID=Australia/Brisbane:20260329T140000
DTEND;TZID=Australia/Brisbane:20260329T190000
DTSTAMP:20260420T140105
CREATED:20260208T073653Z
LAST-MODIFIED:20260208T073653Z
UID:3409-1774792800-1774810800@staging.whbowls.org.au
SUMMARY:Rebel Fork
DESCRIPTION:Rebel Fork food truck offers tasty burgers and fries\, see their menu here: rebelfork.com.au – Menu\, Catering Menu
URL:https://staging.whbowls.org.au/event/rebel-fork-5/
LOCATION:Wellers Hill Bowls Club\, 34 Esher Street\, Tarragindi\, Queensland\, 4121\, Australia
CATEGORIES:Food Trucks
END:VEVENT
END:VCALENDAR