BEGIN:VCALENDAR
VERSION:2.0
PRODID:-//Wellers Hill Bowls Club - ECPv6.15.16//NONSGML v1.0//EN
CALSCALE:GREGORIAN
METHOD:PUBLISH
X-WR-CALNAME:Wellers Hill Bowls Club
X-ORIGINAL-URL:https://staging.whbowls.org.au
X-WR-CALDESC:Events for Wellers Hill Bowls Club
REFRESH-INTERVAL;VALUE=DURATION:PT1H
X-Robots-Tag:noindex
X-PUBLISHED-TTL:PT1H
BEGIN:VTIMEZONE
TZID:Australia/Brisbane
BEGIN:STANDARD
TZOFFSETFROM:+1000
TZOFFSETTO:+1000
TZNAME:AEST
DTSTART:20240101T000000
END:STANDARD
END:VTIMEZONE
BEGIN:VEVENT
DTSTART;TZID=Australia/Brisbane:20250913T140000
DTEND;TZID=Australia/Brisbane:20250913T200000
DTSTAMP:20260420T155514
CREATED:20250906T231536Z
LAST-MODIFIED:20250906T231536Z
UID:2614-1757772000-1757793600@staging.whbowls.org.au
SUMMARY:Food Baby
DESCRIPTION:Food Baby is a Brisbane-based food truck\, serving up delicious food from a unique\, vintage American Chevy Step Van.
URL:https://staging.whbowls.org.au/event/food-baby/
LOCATION:Queensland
CATEGORIES:Food Trucks
END:VEVENT
END:VCALENDAR