BEGIN:VCALENDAR
VERSION:2.0
PRODID:-//Wellers Hill Bowls Club - ECPv6.15.16//NONSGML v1.0//EN
CALSCALE:GREGORIAN
METHOD:PUBLISH
X-WR-CALNAME:Wellers Hill Bowls Club
X-ORIGINAL-URL:https://staging.whbowls.org.au
X-WR-CALDESC:Events for Wellers Hill Bowls Club
REFRESH-INTERVAL;VALUE=DURATION:PT1H
X-Robots-Tag:noindex
X-PUBLISHED-TTL:PT1H
BEGIN:VTIMEZONE
TZID:Australia/Brisbane
BEGIN:STANDARD
TZOFFSETFROM:+1000
TZOFFSETTO:+1000
TZNAME:AEST
DTSTART:20240101T000000
END:STANDARD
END:VTIMEZONE
BEGIN:VEVENT
DTSTART;TZID=Australia/Brisbane:20250928T140000
DTEND;TZID=Australia/Brisbane:20250928T200000
DTSTAMP:20260420T155414
CREATED:20250907T072406Z
LAST-MODIFIED:20250907T072406Z
UID:2683-1759068000-1759089600@staging.whbowls.org.au
SUMMARY:Toasted Foods
DESCRIPTION:TOASTED FOODS  serve gourmet loaded toasties\, or if you’re looking for something gluten free\, get your hands on our TFC crispy fried chicken wings\, loaded fries\, or slow cooked maple pork belly bites.
URL:https://staging.whbowls.org.au/event/toasted-foods-2/
LOCATION:Wellers Hill Bowls Club\, 34 Esher Street\, Tarragindi\, Queensland\, 4121\, Australia
CATEGORIES:Food Trucks
END:VEVENT
END:VCALENDAR