BEGIN:VCALENDAR
VERSION:2.0
PRODID:-//Wellers Hill Bowls Club - ECPv6.15.16//NONSGML v1.0//EN
CALSCALE:GREGORIAN
METHOD:PUBLISH
X-WR-CALNAME:Wellers Hill Bowls Club
X-ORIGINAL-URL:https://staging.whbowls.org.au
X-WR-CALDESC:Events for Wellers Hill Bowls Club
REFRESH-INTERVAL;VALUE=DURATION:PT1H
X-Robots-Tag:noindex
X-PUBLISHED-TTL:PT1H
BEGIN:VTIMEZONE
TZID:Australia/Brisbane
BEGIN:STANDARD
TZOFFSETFROM:+1000
TZOFFSETTO:+1000
TZNAME:AEST
DTSTART:20240101T000000
END:STANDARD
END:VTIMEZONE
BEGIN:VEVENT
DTSTART;TZID=Australia/Brisbane:20250910T170000
DTEND;TZID=Australia/Brisbane:20250910T200000
DTSTAMP:20260420T123315
CREATED:20250906T230214Z
LAST-MODIFIED:20250906T230239Z
UID:2599-1757523600-1757534400@staging.whbowls.org.au
SUMMARY:Socal Tacos
DESCRIPTION:Authentic Southern Californian tacos\, nachos\, tortas and burrito bowls\, and a retro food truck available for Event hire\, Festivals & Special Events!!
URL:https://staging.whbowls.org.au/event/socal-tacos/
LOCATION:Wellers Hill Bowls Club\, 34 Esher Street\, Tarragindi\, Queensland\, 4121\, Australia
CATEGORIES:Food Trucks
END:VEVENT
BEGIN:VEVENT
DTSTART;TZID=Australia/Brisbane:20251204T180000
DTEND;TZID=Australia/Brisbane:20251204T200000
DTSTAMP:20260420T123315
CREATED:20251122T051104Z
LAST-MODIFIED:20251122T051104Z
UID:3247-1764871200-1764878400@staging.whbowls.org.au
SUMMARY:Socal Tacos
DESCRIPTION:Authentic Southern Californian tacos\, nachos\, tortas and burrito bowls\, and a retro food truck available for Event hire\, Festivals & Special Events!!
URL:https://staging.whbowls.org.au/event/socal-tacos-6/
LOCATION:Wellers Hill Bowls Club\, 34 Esher Street\, Tarragindi\, Queensland\, 4121\, Australia
CATEGORIES:Food Trucks
END:VEVENT
BEGIN:VEVENT
DTSTART;TZID=Australia/Brisbane:20251205T170000
DTEND;TZID=Australia/Brisbane:20251205T200000
DTSTAMP:20260420T123315
CREATED:20251122T044245Z
LAST-MODIFIED:20251122T044245Z
UID:3233-1764954000-1764964800@staging.whbowls.org.au
SUMMARY:Toasted Foods
DESCRIPTION:TOASTED FOODS  serve gourmet loaded toasties\, or if you’re looking for something gluten free\, get your hands on our TFC crispy fried chicken wings\, loaded fries\, or slow cooked maple pork belly bites.
URL:https://staging.whbowls.org.au/event/toasted-foods-3/
LOCATION:Wellers Hill Bowls Club\, 34 Esher Street\, Tarragindi\, Queensland\, 4121\, Australia
CATEGORIES:Food Trucks
END:VEVENT
BEGIN:VEVENT
DTSTART;TZID=Australia/Brisbane:20251205T170000
DTEND;TZID=Australia/Brisbane:20251205T200000
DTSTAMP:20260420T123315
CREATED:20251122T050748Z
LAST-MODIFIED:20251122T050853Z
UID:3244-1764954000-1764964800@staging.whbowls.org.au
SUMMARY:Chef 365
DESCRIPTION:CHEF 365 – Paddy Zhang brings his restaurant quality Asian Fusion dishes to you in a full catering service. \n 
URL:https://staging.whbowls.org.au/event/chef-365/
LOCATION:Wellers Hill Bowls Club\, 34 Esher Street\, Tarragindi\, Queensland\, 4121\, Australia
CATEGORIES:Food Trucks
END:VEVENT
BEGIN:VEVENT
DTSTART;TZID=Australia/Brisbane:20251206T140000
DTEND;TZID=Australia/Brisbane:20251206T200000
DTSTAMP:20260420T123315
CREATED:20251122T051306Z
LAST-MODIFIED:20251122T051306Z
UID:3251-1765029600-1765051200@staging.whbowls.org.au
SUMMARY:Socal Tacos
DESCRIPTION:Authentic Southern Californian tacos\, nachos\, tortas and burrito bowls\, and a retro food truck available for Event hire\, Festivals & Special Events!!
URL:https://staging.whbowls.org.au/event/socal-tacos-8/
LOCATION:Wellers Hill Bowls Club\, 34 Esher Street\, Tarragindi\, Queensland\, 4121\, Australia
CATEGORIES:Food Trucks
END:VEVENT
BEGIN:VEVENT
DTSTART;TZID=Australia/Brisbane:20251207T080000
DTEND;TZID=Australia/Brisbane:20251207T120000
DTSTAMP:20260420T123315
CREATED:20251122T034601Z
LAST-MODIFIED:20251122T034601Z
UID:3216-1765094400-1765108800@staging.whbowls.org.au
SUMMARY:Tarragindi Christmas Markets
DESCRIPTION:Hosted by The Wellers Hill Bowls Club & Tarragindi Community Garden. \nCelebrate the festive season at the Tarragindi Christmas Markets — a unique community event featuring over 40 sustainable\, exclusively local stalls!\nDiscover handmade gifts\, crafts\, artisan goods\, and more from talented local artists\, craftspersons\, and community groups.\n Enjoy delicious food trucks\, freshly brewed coffee from our coffee van\, and don’t forget – pets are welcome too!\nSupport local\, soak in the Christmas spirit\, and enjoy a fun-filled morning with family\, friends\, and neighbours.
URL:https://staging.whbowls.org.au/event/tarragindi-christmas-markets/
LOCATION:Wellers Hill Bowls Club\, 34 Esher Street\, Tarragindi\, Queensland\, 4121\, Australia
CATEGORIES:Community Events
END:VEVENT
BEGIN:VEVENT
DTSTART;TZID=Australia/Brisbane:20251207T140000
DTEND;TZID=Australia/Brisbane:20251207T200000
DTSTAMP:20260420T123315
CREATED:20251122T051344Z
LAST-MODIFIED:20251122T051344Z
UID:3253-1765116000-1765137600@staging.whbowls.org.au
SUMMARY:My Latino Fusion
DESCRIPTION:My Latino Fusion is a specialist in a fusion of unique flavours from Latin American Gourmet Food.
URL:https://staging.whbowls.org.au/event/my-latino-fusion-2/
LOCATION:Wellers Hill Bowls Club\, 34 Esher Street\, Tarragindi\, Queensland\, 4121\, Australia
CATEGORIES:Food Trucks
END:VEVENT
BEGIN:VEVENT
DTSTART;TZID=Australia/Brisbane:20250910T170000
DTEND;TZID=Australia/Brisbane:20250910T200000
DTSTAMP:20260420T123315
CREATED:20250906T230214Z
LAST-MODIFIED:20250906T230239Z
UID:2599-1757523600-1757534400@staging.whbowls.org.au
SUMMARY:Socal Tacos
DESCRIPTION:Authentic Southern Californian tacos\, nachos\, tortas and burrito bowls\, and a retro food truck available for Event hire\, Festivals & Special Events!!
URL:https://staging.whbowls.org.au/event/socal-tacos/
LOCATION:Wellers Hill Bowls Club\, 34 Esher Street\, Tarragindi\, Queensland\, 4121\, Australia
CATEGORIES:Food Trucks
END:VEVENT
BEGIN:VEVENT
DTSTART;TZID=Australia/Brisbane:20251211T180000
DTEND;TZID=Australia/Brisbane:20251211T200000
DTSTAMP:20260420T123315
CREATED:20251122T051149Z
LAST-MODIFIED:20251122T051149Z
UID:3249-1765476000-1765483200@staging.whbowls.org.au
SUMMARY:Socal Tacos
DESCRIPTION:Authentic Southern Californian tacos\, nachos\, tortas and burrito bowls\, and a retro food truck available for Event hire\, Festivals & Special Events!!
URL:https://staging.whbowls.org.au/event/socal-tacos-7/
LOCATION:Wellers Hill Bowls Club\, 34 Esher Street\, Tarragindi\, Queensland\, 4121\, Australia
CATEGORIES:Food Trucks
END:VEVENT
BEGIN:VEVENT
DTSTART;TZID=Australia/Brisbane:20251212T170000
DTEND;TZID=Australia/Brisbane:20251212T200000
DTSTAMP:20260420T123315
CREATED:20251122T051739Z
LAST-MODIFIED:20251122T051739Z
UID:3257-1765558800-1765569600@staging.whbowls.org.au
SUMMARY:Chef 365
DESCRIPTION:CHEF 365 – Paddy Zhang brings his restaurant quality Asian Fusion dishes to you in a full catering service. \n 
URL:https://staging.whbowls.org.au/event/chef-365-2/
LOCATION:Wellers Hill Bowls Club\, 34 Esher Street\, Tarragindi\, Queensland\, 4121\, Australia
CATEGORIES:Food Trucks
END:VEVENT
BEGIN:VEVENT
DTSTART;TZID=Australia/Brisbane:20251212T170000
DTEND;TZID=Australia/Brisbane:20251212T200000
DTSTAMP:20260420T123315
CREATED:20251122T051824Z
LAST-MODIFIED:20251122T051824Z
UID:3259-1765558800-1765569600@staging.whbowls.org.au
SUMMARY:Pew Pew BBQ
DESCRIPTION:SEQ Based Pew Pew BBQ Food truck brings the Finest Grilled Cuisine to you.
URL:https://staging.whbowls.org.au/event/pew-pew-bbq-2/
LOCATION:Wellers Hill Bowls Club\, 34 Esher Street\, Tarragindi\, Queensland\, 4121\, Australia
CATEGORIES:Food Trucks
END:VEVENT
BEGIN:VEVENT
DTSTART;TZID=Australia/Brisbane:20251213T140000
DTEND;TZID=Australia/Brisbane:20251213T200000
DTSTAMP:20260420T123315
CREATED:20251122T051927Z
LAST-MODIFIED:20251122T051927Z
UID:3261-1765634400-1765656000@staging.whbowls.org.au
SUMMARY:Rebel Fork
DESCRIPTION:Rebel Fork food truck offers tasty burgers and fries\, see their menu here: rebelfork.com.au – Menu\, Catering Menu
URL:https://staging.whbowls.org.au/event/rebel-fork-2/
LOCATION:Queensland
CATEGORIES:Food Trucks
END:VEVENT
BEGIN:VEVENT
DTSTART;TZID=Australia/Brisbane:20251214T140000
DTEND;TZID=Australia/Brisbane:20251214T200000
DTSTAMP:20260420T123315
CREATED:20251122T051508Z
LAST-MODIFIED:20251122T051508Z
UID:3255-1765720800-1765742400@staging.whbowls.org.au
SUMMARY:My Latino Fusion
DESCRIPTION:My Latino Fusion is a specialist in a fusion of unique flavours from Latin American Gourmet Food.
URL:https://staging.whbowls.org.au/event/my-latino-fusion-3/
LOCATION:Wellers Hill Bowls Club\, 34 Esher Street\, Tarragindi\, Queensland\, 4121\, Australia
CATEGORIES:Food Trucks
END:VEVENT
BEGIN:VEVENT
DTSTART;TZID=Australia/Brisbane:20250910T170000
DTEND;TZID=Australia/Brisbane:20250910T200000
DTSTAMP:20260420T123315
CREATED:20250906T230214Z
LAST-MODIFIED:20250906T230239Z
UID:2599-1757523600-1757534400@staging.whbowls.org.au
SUMMARY:Socal Tacos
DESCRIPTION:Authentic Southern Californian tacos\, nachos\, tortas and burrito bowls\, and a retro food truck available for Event hire\, Festivals & Special Events!!
URL:https://staging.whbowls.org.au/event/socal-tacos/
LOCATION:Wellers Hill Bowls Club\, 34 Esher Street\, Tarragindi\, Queensland\, 4121\, Australia
CATEGORIES:Food Trucks
END:VEVENT
BEGIN:VEVENT
DTSTART;TZID=Australia/Brisbane:20251218T180000
DTEND;TZID=Australia/Brisbane:20251218T200000
DTSTAMP:20260420T123315
CREATED:20251122T052206Z
LAST-MODIFIED:20251122T052206Z
UID:3265-1766080800-1766088000@staging.whbowls.org.au
SUMMARY:Socal Tacos
DESCRIPTION:Authentic Southern Californian tacos\, nachos\, tortas and burrito bowls\, and a retro food truck available for Event hire\, Festivals & Special Events!!
URL:https://staging.whbowls.org.au/event/socal-tacos-9/
LOCATION:Wellers Hill Bowls Club\, 34 Esher Street\, Tarragindi\, Queensland\, 4121\, Australia
CATEGORIES:Food Trucks
END:VEVENT
BEGIN:VEVENT
DTSTART;TZID=Australia/Brisbane:20251219T170000
DTEND;TZID=Australia/Brisbane:20251219T200000
DTSTAMP:20260420T123315
CREATED:20251122T052036Z
LAST-MODIFIED:20251122T052100Z
UID:3263-1766163600-1766174400@staging.whbowls.org.au
SUMMARY:Rebel Fork
DESCRIPTION:Rebel Fork food truck offers tasty burgers and fries\, see their menu here: rebelfork.com.au – Menu\, Catering Menu
URL:https://staging.whbowls.org.au/event/rebel-fork-3/
LOCATION:Queensland
CATEGORIES:Food Trucks
END:VEVENT
BEGIN:VEVENT
DTSTART;TZID=Australia/Brisbane:20251220T140000
DTEND;TZID=Australia/Brisbane:20251220T200000
DTSTAMP:20260420T123315
CREATED:20251122T052318Z
LAST-MODIFIED:20251122T052318Z
UID:3267-1766239200-1766260800@staging.whbowls.org.au
SUMMARY:Toasted Foods
DESCRIPTION:TOASTED FOODS  serve gourmet loaded toasties\, or if you’re looking for something gluten free\, get your hands on our TFC crispy fried chicken wings\, loaded fries\, or slow cooked maple pork belly bites.
URL:https://staging.whbowls.org.au/event/toasted-foods-4/
LOCATION:Wellers Hill Bowls Club\, 34 Esher Street\, Tarragindi\, Queensland\, 4121\, Australia
CATEGORIES:Food Trucks
END:VEVENT
BEGIN:VEVENT
DTSTART;TZID=Australia/Brisbane:20251221T140000
DTEND;TZID=Australia/Brisbane:20251221T200000
DTSTAMP:20260420T123315
CREATED:20251122T052352Z
LAST-MODIFIED:20251122T052352Z
UID:3269-1766325600-1766347200@staging.whbowls.org.au
SUMMARY:Notorious E.A.T.
DESCRIPTION:Serving bold American street food with flair\, Notorious E.A.T. brings unforgettable eats straight to your event. From weddings and birthdays to corporate functions\, we roll in\, fire up\, and feed your crew with flavour-packed food that gets guests talking.\nWebsite: https://notoriouseat.com.au/
URL:https://staging.whbowls.org.au/event/notorious-e-a-t-3/
LOCATION:Wellers Hill Bowls Club\, 34 Esher Street\, Tarragindi\, Queensland\, 4121\, Australia
CATEGORIES:Food Trucks
END:VEVENT
BEGIN:VEVENT
DTSTART;TZID=Australia/Brisbane:20250910T170000
DTEND;TZID=Australia/Brisbane:20250910T200000
DTSTAMP:20260420T123315
CREATED:20250906T230214Z
LAST-MODIFIED:20250906T230239Z
UID:2599-1757523600-1757534400@staging.whbowls.org.au
SUMMARY:Socal Tacos
DESCRIPTION:Authentic Southern Californian tacos\, nachos\, tortas and burrito bowls\, and a retro food truck available for Event hire\, Festivals & Special Events!!
URL:https://staging.whbowls.org.au/event/socal-tacos/
LOCATION:Wellers Hill Bowls Club\, 34 Esher Street\, Tarragindi\, Queensland\, 4121\, Australia
CATEGORIES:Food Trucks
END:VEVENT
BEGIN:VEVENT
DTSTART;TZID=Australia/Brisbane:20251225T000000
DTEND;TZID=Australia/Brisbane:20251226T235959
DTSTAMP:20260420T123315
CREATED:20251122T052620Z
LAST-MODIFIED:20251122T052641Z
UID:3271-1766620800-1766793599@staging.whbowls.org.au
SUMMARY:Christmas Closure
DESCRIPTION:Closed for Christmas
URL:https://staging.whbowls.org.au/event/christmas-closure/
LOCATION:Wellers Hill Bowls Club\, 34 Esher Street\, Tarragindi\, Queensland\, 4121\, Australia
CATEGORIES:Food Trucks
END:VEVENT
BEGIN:VEVENT
DTSTART;TZID=Australia/Brisbane:20251228T140000
DTEND;TZID=Australia/Brisbane:20251228T200000
DTSTAMP:20260420T123315
CREATED:20251122T052758Z
LAST-MODIFIED:20251122T052758Z
UID:3273-1766930400-1766952000@staging.whbowls.org.au
SUMMARY:Toasted Foods
DESCRIPTION:TOASTED FOODS  serve gourmet loaded toasties\, or if you’re looking for something gluten free\, get your hands on our TFC crispy fried chicken wings\, loaded fries\, or slow cooked maple pork belly bites.
URL:https://staging.whbowls.org.au/event/toasted-foods-5/
LOCATION:Wellers Hill Bowls Club\, 34 Esher Street\, Tarragindi\, Queensland\, 4121\, Australia
CATEGORIES:Food Trucks
END:VEVENT
BEGIN:VEVENT
DTSTART;TZID=Australia/Brisbane:20250910T170000
DTEND;TZID=Australia/Brisbane:20250910T200000
DTSTAMP:20260420T123315
CREATED:20250906T230214Z
LAST-MODIFIED:20250906T230239Z
UID:2599-1757523600-1757534400@staging.whbowls.org.au
SUMMARY:Socal Tacos
DESCRIPTION:Authentic Southern Californian tacos\, nachos\, tortas and burrito bowls\, and a retro food truck available for Event hire\, Festivals & Special Events!!
URL:https://staging.whbowls.org.au/event/socal-tacos/
LOCATION:Wellers Hill Bowls Club\, 34 Esher Street\, Tarragindi\, Queensland\, 4121\, Australia
CATEGORIES:Food Trucks
END:VEVENT
END:VCALENDAR