BEGIN:VCALENDAR
VERSION:2.0
PRODID:-//Wellers Hill Bowls Club - ECPv6.15.16//NONSGML v1.0//EN
CALSCALE:GREGORIAN
METHOD:PUBLISH
X-ORIGINAL-URL:https://staging.whbowls.org.au
X-WR-CALDESC:Events for Wellers Hill Bowls Club
REFRESH-INTERVAL;VALUE=DURATION:PT1H
X-Robots-Tag:noindex
X-PUBLISHED-TTL:PT1H
BEGIN:VTIMEZONE
TZID:Australia/Brisbane
BEGIN:STANDARD
TZOFFSETFROM:+1000
TZOFFSETTO:+1000
TZNAME:AEST
DTSTART:20240101T000000
END:STANDARD
END:VTIMEZONE
BEGIN:VEVENT
DTSTART;TZID=Australia/Brisbane:20260101T000000
DTEND;TZID=Australia/Brisbane:20260101T235959
DTSTAMP:20260420T103228
CREATED:20251122T052948Z
LAST-MODIFIED:20251122T052948Z
UID:3275-1767225600-1767311999@staging.whbowls.org.au
SUMMARY:New Years Day Closure
DESCRIPTION:Sorry\, we are closed on New Years Day
URL:https://staging.whbowls.org.au/event/new-years-day-closure/
LOCATION:Wellers Hill Bowls Club\, 34 Esher Street\, Tarragindi\, Queensland\, 4121\, Australia
CATEGORIES:Food Trucks
END:VEVENT
BEGIN:VEVENT
DTSTART;TZID=Australia/Brisbane:20260103T150000
DTEND;TZID=Australia/Brisbane:20260103T190000
DTSTAMP:20260420T103228
CREATED:20251228T003923Z
LAST-MODIFIED:20251228T003923Z
UID:3334-1767452400-1767466800@staging.whbowls.org.au
SUMMARY:Socal Tacos
DESCRIPTION:Authentic Southern Californian tacos\, nachos\, tortas and burrito bowls\, and a retro food truck available for Event hire\, Festivals & Special Events!!
URL:https://staging.whbowls.org.au/event/socal-tacos-10/
LOCATION:Wellers Hill Bowls Club\, 34 Esher Street\, Tarragindi\, Queensland\, 4121\, Australia
CATEGORIES:Food Trucks
END:VEVENT
BEGIN:VEVENT
DTSTART;TZID=Australia/Brisbane:20250910T170000
DTEND;TZID=Australia/Brisbane:20250910T200000
DTSTAMP:20260420T103228
CREATED:20250906T230214Z
LAST-MODIFIED:20250906T230239Z
UID:2599-1757523600-1757534400@staging.whbowls.org.au
SUMMARY:Socal Tacos
DESCRIPTION:Authentic Southern Californian tacos\, nachos\, tortas and burrito bowls\, and a retro food truck available for Event hire\, Festivals & Special Events!!
URL:https://staging.whbowls.org.au/event/socal-tacos/
LOCATION:Wellers Hill Bowls Club\, 34 Esher Street\, Tarragindi\, Queensland\, 4121\, Australia
CATEGORIES:Food Trucks
END:VEVENT
BEGIN:VEVENT
DTSTART;TZID=Australia/Brisbane:20260110T140000
DTEND;TZID=Australia/Brisbane:20260110T200000
DTSTAMP:20260420T103228
CREATED:20251228T004259Z
LAST-MODIFIED:20251228T004259Z
UID:3336-1768053600-1768075200@staging.whbowls.org.au
SUMMARY:Queen Pizza
DESCRIPTION:Mobile pizza catering
URL:https://staging.whbowls.org.au/event/queen-pizza/
LOCATION:Wellers Hill Bowls Club\, 34 Esher Street\, Tarragindi\, Queensland\, 4121\, Australia
CATEGORIES:Food Trucks
END:VEVENT
BEGIN:VEVENT
DTSTART;TZID=Australia/Brisbane:20260111T140000
DTEND;TZID=Australia/Brisbane:20260111T190000
DTSTAMP:20260420T103228
CREATED:20251228T004408Z
LAST-MODIFIED:20251228T005439Z
UID:3338-1768140000-1768158000@staging.whbowls.org.au
SUMMARY:My Latino Fusion
DESCRIPTION:My Latino Fusion is a specialist in a fusion of unique flavours from Latin American Gourmet Food.
URL:https://staging.whbowls.org.au/event/my-latino-fusion-4/
LOCATION:Wellers Hill Bowls Club\, 34 Esher Street\, Tarragindi\, Queensland\, 4121\, Australia
CATEGORIES:Food Trucks
END:VEVENT
BEGIN:VEVENT
DTSTART;TZID=Australia/Brisbane:20250910T170000
DTEND;TZID=Australia/Brisbane:20250910T200000
DTSTAMP:20260420T103228
CREATED:20250906T230214Z
LAST-MODIFIED:20250906T230239Z
UID:2599-1757523600-1757534400@staging.whbowls.org.au
SUMMARY:Socal Tacos
DESCRIPTION:Authentic Southern Californian tacos\, nachos\, tortas and burrito bowls\, and a retro food truck available for Event hire\, Festivals & Special Events!!
URL:https://staging.whbowls.org.au/event/socal-tacos/
LOCATION:Wellers Hill Bowls Club\, 34 Esher Street\, Tarragindi\, Queensland\, 4121\, Australia
CATEGORIES:Food Trucks
END:VEVENT
BEGIN:VEVENT
DTSTART;TZID=Australia/Brisbane:20260117T140000
DTEND;TZID=Australia/Brisbane:20260117T200000
DTSTAMP:20260420T103228
CREATED:20251228T004837Z
LAST-MODIFIED:20251228T004837Z
UID:3340-1768658400-1768680000@staging.whbowls.org.au
SUMMARY:Mr Tokyo Dog
DESCRIPTION:Mr Tokyo Dog serves up a delicious hand-crafted Japanese style crispy Wings\, Hot Dogs and Burgers at special events in and around the Brisbane region. This delicious fusion of Japanese and western culture\, along with sides of coleslaw and chips\, results on a distinct and flavoursome taste. \nTheir awesome menu features a range of delightful dishes such as Wings and Chips\, Teriyaki-Mayo Dog\, Honey-Wasabi Dog\, Japa-Curry Roll\, Karaage Burger\, Veg Croquette Burger\, Teriyaki Karaage Bowl\, Pork Kimchi Bowl and more. One can’t go past the Okonomi Dog – a Cheese Kransky sausage topped with Japanese mayonnaise\, Japanese Worcestershire sauce\, shallot\, Katsuobushi and red pickled ginger.
URL:https://staging.whbowls.org.au/event/mr-tokyo-dog/
LOCATION:Wellers Hill Bowls Club\, 34 Esher Street\, Tarragindi\, Queensland\, 4121\, Australia
CATEGORIES:Food Trucks
END:VEVENT
BEGIN:VEVENT
DTSTART;TZID=Australia/Brisbane:20260118T140000
DTEND;TZID=Australia/Brisbane:20260118T190000
DTSTAMP:20260420T103228
CREATED:20251228T005251Z
LAST-MODIFIED:20251228T005251Z
UID:3342-1768744800-1768762800@staging.whbowls.org.au
SUMMARY:GC Eats
DESCRIPTION:GC Eats is a family-run food truck born on the Gold Coast with a passion for great food and good vibes. We serve up high-quality eats with a fun\, laid-back twist – because we believe food should be as enjoyable as the people you share it with. From our family to yours\, every dish is made with care\, flavour and a whole lot of heart.
URL:https://staging.whbowls.org.au/event/gc-eats/
LOCATION:Wellers Hill Bowls Club\, 34 Esher Street\, Tarragindi\, Queensland\, 4121\, Australia
CATEGORIES:Food Trucks
END:VEVENT
BEGIN:VEVENT
DTSTART;TZID=Australia/Brisbane:20250910T170000
DTEND;TZID=Australia/Brisbane:20250910T200000
DTSTAMP:20260420T103228
CREATED:20250906T230214Z
LAST-MODIFIED:20250906T230239Z
UID:2599-1757523600-1757534400@staging.whbowls.org.au
SUMMARY:Socal Tacos
DESCRIPTION:Authentic Southern Californian tacos\, nachos\, tortas and burrito bowls\, and a retro food truck available for Event hire\, Festivals & Special Events!!
URL:https://staging.whbowls.org.au/event/socal-tacos/
LOCATION:Wellers Hill Bowls Club\, 34 Esher Street\, Tarragindi\, Queensland\, 4121\, Australia
CATEGORIES:Food Trucks
END:VEVENT
BEGIN:VEVENT
DTSTART;TZID=Australia/Brisbane:20260124T140000
DTEND;TZID=Australia/Brisbane:20260124T190000
DTSTAMP:20260420T103228
CREATED:20251228T005715Z
LAST-MODIFIED:20251228T005715Z
UID:3344-1769263200-1769281200@staging.whbowls.org.au
SUMMARY:Pew Pew BBQ
DESCRIPTION:SEQ Based Pew Pew BBQ Food truck brings the Finest Grilled Cuisine to you.
URL:https://staging.whbowls.org.au/event/pew-pew-bbq-3/
LOCATION:Wellers Hill Bowls Club\, 34 Esher Street\, Tarragindi\, Queensland\, 4121\, Australia
CATEGORIES:Food Trucks
END:VEVENT
BEGIN:VEVENT
DTSTART;TZID=Australia/Brisbane:20260125T140000
DTEND;TZID=Australia/Brisbane:20260125T190000
DTSTAMP:20260420T103228
CREATED:20251228T005822Z
LAST-MODIFIED:20251228T005822Z
UID:3346-1769349600-1769367600@staging.whbowls.org.au
SUMMARY:Toasted Foods
DESCRIPTION:TOASTED FOODS  serve gourmet loaded toasties\, or if you’re looking for something gluten free\, get your hands on our TFC crispy fried chicken wings\, loaded fries\, or slow cooked maple pork belly bites.
URL:https://staging.whbowls.org.au/event/toasted-foods-6/
LOCATION:Wellers Hill Bowls Club\, 34 Esher Street\, Tarragindi\, Queensland\, 4121\, Australia
CATEGORIES:Food Trucks
END:VEVENT
BEGIN:VEVENT
DTSTART;TZID=Australia/Brisbane:20260125T140000
DTEND;TZID=Australia/Brisbane:20260125T210000
DTSTAMP:20260420T103228
CREATED:20251102T045310Z
LAST-MODIFIED:20251102T074414Z
UID:3118-1769349600-1769374800@staging.whbowls.org.au
SUMMARY:Family Fun Day
DESCRIPTION:Come and enjoy a day on the green – bring your picnic rugs. \nThere will be food trucks and as always\, plenty of craft beer\, wine and soft drinks.
URL:https://staging.whbowls.org.au/event/family-fun-day/
LOCATION:Wellers Hill Bowls Club\, 34 Esher Street\, Tarragindi\, Queensland\, 4121\, Australia
CATEGORIES:Community Events
END:VEVENT
BEGIN:VEVENT
DTSTART;TZID=Australia/Brisbane:20250910T170000
DTEND;TZID=Australia/Brisbane:20250910T200000
DTSTAMP:20260420T103228
CREATED:20250906T230214Z
LAST-MODIFIED:20250906T230239Z
UID:2599-1757523600-1757534400@staging.whbowls.org.au
SUMMARY:Socal Tacos
DESCRIPTION:Authentic Southern Californian tacos\, nachos\, tortas and burrito bowls\, and a retro food truck available for Event hire\, Festivals & Special Events!!
URL:https://staging.whbowls.org.au/event/socal-tacos/
LOCATION:Wellers Hill Bowls Club\, 34 Esher Street\, Tarragindi\, Queensland\, 4121\, Australia
CATEGORIES:Food Trucks
END:VEVENT
BEGIN:VEVENT
DTSTART;TZID=Australia/Brisbane:20260130T170000
DTEND;TZID=Australia/Brisbane:20260130T193000
DTSTAMP:20260420T103228
CREATED:20251228T010029Z
LAST-MODIFIED:20251228T010029Z
UID:3348-1769792400-1769801400@staging.whbowls.org.au
SUMMARY:Yummy Nami
DESCRIPTION:Brisbane’s Favourite Mobile Japanese Kitchen \nOrder online: Order Online | Yummy Nami
URL:https://staging.whbowls.org.au/event/yummy-nami-3/
LOCATION:Wellers Hill Bowls Club\, 34 Esher Street\, Tarragindi\, Queensland\, 4121\, Australia
CATEGORIES:Food Trucks
END:VEVENT
END:VCALENDAR