BEGIN:VCALENDAR
VERSION:2.0
PRODID:-//Wellers Hill Bowls Club - ECPv6.15.16//NONSGML v1.0//EN
CALSCALE:GREGORIAN
METHOD:PUBLISH
X-WR-CALNAME:Wellers Hill Bowls Club
X-ORIGINAL-URL:https://staging.whbowls.org.au
X-WR-CALDESC:Events for Wellers Hill Bowls Club
REFRESH-INTERVAL;VALUE=DURATION:PT1H
X-Robots-Tag:noindex
X-PUBLISHED-TTL:PT1H
BEGIN:VTIMEZONE
TZID:Australia/Brisbane
BEGIN:STANDARD
TZOFFSETFROM:+1000
TZOFFSETTO:+1000
TZNAME:AEST
DTSTART:20240101T000000
END:STANDARD
END:VTIMEZONE
BEGIN:VEVENT
DTSTART;TZID=Australia/Brisbane:20260201T140000
DTEND;TZID=Australia/Brisbane:20260201T190000
DTSTAMP:20260420T082854
CREATED:20251228T010142Z
LAST-MODIFIED:20251228T010142Z
UID:3350-1769954400-1769972400@staging.whbowls.org.au
SUMMARY:Rebel Fork
DESCRIPTION:Rebel Fork food truck offers tasty burgers and fries\, see their menu here: rebelfork.com.au – Menu\, Catering Menu
URL:https://staging.whbowls.org.au/event/rebel-fork-4/
LOCATION:Wellers Hill Bowls Club\, 34 Esher Street\, Tarragindi\, Queensland\, 4121\, Australia
CATEGORIES:Food Trucks
END:VEVENT
BEGIN:VEVENT
DTSTART;TZID=Australia/Brisbane:20250910T170000
DTEND;TZID=Australia/Brisbane:20250910T200000
DTSTAMP:20260420T082854
CREATED:20250906T230214Z
LAST-MODIFIED:20250906T230239Z
UID:2599-1757523600-1757534400@staging.whbowls.org.au
SUMMARY:Socal Tacos
DESCRIPTION:Authentic Southern Californian tacos\, nachos\, tortas and burrito bowls\, and a retro food truck available for Event hire\, Festivals & Special Events!!
URL:https://staging.whbowls.org.au/event/socal-tacos/
LOCATION:Wellers Hill Bowls Club\, 34 Esher Street\, Tarragindi\, Queensland\, 4121\, Australia
CATEGORIES:Food Trucks
END:VEVENT
BEGIN:VEVENT
DTSTART;TZID=Australia/Brisbane:20260206T140000
DTEND;TZID=Australia/Brisbane:20260206T200000
DTSTAMP:20260420T082854
CREATED:20260208T064644Z
LAST-MODIFIED:20260208T064644Z
UID:3365-1770386400-1770408000@staging.whbowls.org.au
SUMMARY:Toasted Foods
DESCRIPTION:TOASTED FOODS  serve gourmet loaded toasties\, or if you’re looking for something gluten free\, get your hands on our TFC crispy fried chicken wings\, loaded fries\, or slow cooked maple pork belly bites.
URL:https://staging.whbowls.org.au/event/toasted-foods-7/
LOCATION:Wellers Hill Bowls Club\, 34 Esher Street\, Tarragindi\, Queensland\, 4121\, Australia
CATEGORIES:Food Trucks
END:VEVENT
BEGIN:VEVENT
DTSTART;TZID=Australia/Brisbane:20260208T140000
DTEND;TZID=Australia/Brisbane:20260208T190000
DTSTAMP:20260420T082854
CREATED:20260208T064748Z
LAST-MODIFIED:20260208T064748Z
UID:3368-1770559200-1770577200@staging.whbowls.org.au
SUMMARY:My Latino Fusion
DESCRIPTION:My Latino Fusion is a specialist in a fusion of unique flavours from Latin American Gourmet Food.
URL:https://staging.whbowls.org.au/event/my-latino-fusion-5/
LOCATION:Wellers Hill Bowls Club\, 34 Esher Street\, Tarragindi\, Queensland\, 4121\, Australia
CATEGORIES:Food Trucks
END:VEVENT
BEGIN:VEVENT
DTSTART;TZID=Australia/Brisbane:20250910T170000
DTEND;TZID=Australia/Brisbane:20250910T200000
DTSTAMP:20260420T082854
CREATED:20250906T230214Z
LAST-MODIFIED:20250906T230239Z
UID:2599-1757523600-1757534400@staging.whbowls.org.au
SUMMARY:Socal Tacos
DESCRIPTION:Authentic Southern Californian tacos\, nachos\, tortas and burrito bowls\, and a retro food truck available for Event hire\, Festivals & Special Events!!
URL:https://staging.whbowls.org.au/event/socal-tacos/
LOCATION:Wellers Hill Bowls Club\, 34 Esher Street\, Tarragindi\, Queensland\, 4121\, Australia
CATEGORIES:Food Trucks
END:VEVENT
BEGIN:VEVENT
DTSTART;TZID=Australia/Brisbane:20260213T170000
DTEND;TZID=Australia/Brisbane:20260213T200000
DTSTAMP:20260420T082854
CREATED:20260208T070647Z
LAST-MODIFIED:20260208T070647Z
UID:3370-1771002000-1771012800@staging.whbowls.org.au
SUMMARY:Roam'In Pizza
DESCRIPTION:Here at Roamin’ Pizza\, we are one of Brisbane’s most well-respected and requested wood-fired mobile pizza catering services—for a good reason. Our unique party-catering\, takeaway shop\, and food truck services offer a chance to experience delicious\, traditional Italian wood-fired pizza. \n\n\n\n\nFrom home parties and corporate events to wedding catering\, we offer various options for all occasions. The best part is that we do all the setup\, cooking\, and cleaning so that you can focus on enjoying yourself. There is a new food truck revolution in Brisbane\, with a growing trend of healthy food trucks hitting the streets and serving up some of Brisbane’s finest healthy eats. \n\n\n\n\nSo\, if you’re looking for premium-quality wood-fired pizza catering in Brisbane or a tremendous takeaway pizza\, don’t hesitate to contact us at 1300 433 341 or order online today.
URL:https://staging.whbowls.org.au/event/roamin-pizza/
LOCATION:Wellers Hill Bowls Club\, 34 Esher Street\, Tarragindi\, Queensland\, 4121\, Australia
CATEGORIES:Food Trucks
END:VEVENT
BEGIN:VEVENT
DTSTART;TZID=Australia/Brisbane:20260214T170000
DTEND;TZID=Australia/Brisbane:20260214T200000
DTSTAMP:20260420T082854
CREATED:20260208T070815Z
LAST-MODIFIED:20260208T070815Z
UID:3373-1771088400-1771099200@staging.whbowls.org.au
SUMMARY:Queen Pizza
DESCRIPTION:Mobile pizza catering
URL:https://staging.whbowls.org.au/event/queen-pizza-2/
LOCATION:Wellers Hill Bowls Club\, 34 Esher Street\, Tarragindi\, Queensland\, 4121\, Australia
CATEGORIES:Food Trucks
END:VEVENT
BEGIN:VEVENT
DTSTART;TZID=Australia/Brisbane:20260215T140000
DTEND;TZID=Australia/Brisbane:20260215T190000
DTSTAMP:20260420T082854
CREATED:20260208T070932Z
LAST-MODIFIED:20260208T070932Z
UID:3375-1771164000-1771182000@staging.whbowls.org.au
SUMMARY:GC Eats
DESCRIPTION:GC Eats is a family-run food truck born on the Gold Coast with a passion for great food and good vibes. We serve up high-quality eats with a fun\, laid-back twist – because we believe food should be as enjoyable as the people you share it with. From our family to yours\, every dish is made with care\, flavour and a whole lot of heart.
URL:https://staging.whbowls.org.au/event/gc-eats-2/
LOCATION:Wellers Hill Bowls Club\, 34 Esher Street\, Tarragindi\, Queensland\, 4121\, Australia
CATEGORIES:Food Trucks
END:VEVENT
BEGIN:VEVENT
DTSTART;TZID=Australia/Brisbane:20250910T170000
DTEND;TZID=Australia/Brisbane:20250910T200000
DTSTAMP:20260420T082854
CREATED:20250906T230214Z
LAST-MODIFIED:20250906T230239Z
UID:2599-1757523600-1757534400@staging.whbowls.org.au
SUMMARY:Socal Tacos
DESCRIPTION:Authentic Southern Californian tacos\, nachos\, tortas and burrito bowls\, and a retro food truck available for Event hire\, Festivals & Special Events!!
URL:https://staging.whbowls.org.au/event/socal-tacos/
LOCATION:Wellers Hill Bowls Club\, 34 Esher Street\, Tarragindi\, Queensland\, 4121\, Australia
CATEGORIES:Food Trucks
END:VEVENT
BEGIN:VEVENT
DTSTART;TZID=Australia/Brisbane:20260220T170000
DTEND;TZID=Australia/Brisbane:20260220T200000
DTSTAMP:20260420T082854
CREATED:20260208T071049Z
LAST-MODIFIED:20260208T071049Z
UID:3377-1771606800-1771617600@staging.whbowls.org.au
SUMMARY:Yummy Nami
DESCRIPTION:Brisbane’s Favourite Mobile Japanese Kitchen \nOrder online: Order Online | Yummy Nami
URL:https://staging.whbowls.org.au/event/yummy-nami-4/
LOCATION:Wellers Hill Bowls Club\, 34 Esher Street\, Tarragindi\, Queensland\, 4121\, Australia
CATEGORIES:Food Trucks
END:VEVENT
BEGIN:VEVENT
DTSTART;TZID=Australia/Brisbane:20260221T140000
DTEND;TZID=Australia/Brisbane:20260221T190000
DTSTAMP:20260420T082854
CREATED:20260208T071132Z
LAST-MODIFIED:20260208T071132Z
UID:3379-1771682400-1771700400@staging.whbowls.org.au
SUMMARY:Pew Pew BBQ
DESCRIPTION:SEQ Based Pew Pew BBQ Food truck brings the Finest Grilled Cuisine to you.
URL:https://staging.whbowls.org.au/event/pew-pew-bbq-4/
LOCATION:Wellers Hill Bowls Club\, 34 Esher Street\, Tarragindi\, Queensland\, 4121\, Australia
CATEGORIES:Food Trucks
END:VEVENT
BEGIN:VEVENT
DTSTART;TZID=Australia/Brisbane:20260222T140000
DTEND;TZID=Australia/Brisbane:20260222T190000
DTSTAMP:20260420T082854
CREATED:20260208T071241Z
LAST-MODIFIED:20260208T071241Z
UID:3381-1771768800-1771786800@staging.whbowls.org.au
SUMMARY:Toasted Foods
DESCRIPTION:TOASTED FOODS  serve gourmet loaded toasties\, or if you’re looking for something gluten free\, get your hands on our TFC crispy fried chicken wings\, loaded fries\, or slow cooked maple pork belly bites.
URL:https://staging.whbowls.org.au/event/toasted-foods-8/
LOCATION:Wellers Hill Bowls Club\, 34 Esher Street\, Tarragindi\, Queensland\, 4121\, Australia
CATEGORIES:Food Trucks
END:VEVENT
BEGIN:VEVENT
DTSTART;TZID=Australia/Brisbane:20250910T170000
DTEND;TZID=Australia/Brisbane:20250910T200000
DTSTAMP:20260420T082854
CREATED:20250906T230214Z
LAST-MODIFIED:20250906T230239Z
UID:2599-1757523600-1757534400@staging.whbowls.org.au
SUMMARY:Socal Tacos
DESCRIPTION:Authentic Southern Californian tacos\, nachos\, tortas and burrito bowls\, and a retro food truck available for Event hire\, Festivals & Special Events!!
URL:https://staging.whbowls.org.au/event/socal-tacos/
LOCATION:Wellers Hill Bowls Club\, 34 Esher Street\, Tarragindi\, Queensland\, 4121\, Australia
CATEGORIES:Food Trucks
END:VEVENT
BEGIN:VEVENT
DTSTART;TZID=Australia/Brisbane:20260228T140000
DTEND;TZID=Australia/Brisbane:20260228T190000
DTSTAMP:20260420T082854
CREATED:20260208T071337Z
LAST-MODIFIED:20260208T071337Z
UID:3383-1772287200-1772305200@staging.whbowls.org.au
SUMMARY:My Latino Fusion
DESCRIPTION:My Latino Fusion is a specialist in a fusion of unique flavours from Latin American Gourmet Food.
URL:https://staging.whbowls.org.au/event/my-latino-fusion-6/
LOCATION:Wellers Hill Bowls Club\, 34 Esher Street\, Tarragindi\, Queensland\, 4121\, Australia
CATEGORIES:Food Trucks
END:VEVENT
END:VCALENDAR