BEGIN:VCALENDAR
VERSION:2.0
PRODID:-//Wellers Hill Bowls Club - ECPv6.15.16//NONSGML v1.0//EN
CALSCALE:GREGORIAN
METHOD:PUBLISH
X-ORIGINAL-URL:https://staging.whbowls.org.au
X-WR-CALDESC:Events for Wellers Hill Bowls Club
REFRESH-INTERVAL;VALUE=DURATION:PT1H
X-Robots-Tag:noindex
X-PUBLISHED-TTL:PT1H
BEGIN:VTIMEZONE
TZID:Australia/Brisbane
BEGIN:STANDARD
TZOFFSETFROM:+1000
TZOFFSETTO:+1000
TZNAME:AEST
DTSTART:20240101T000000
END:STANDARD
END:VTIMEZONE
BEGIN:VEVENT
DTSTART;TZID=Australia/Brisbane:20250910T170000
DTEND;TZID=Australia/Brisbane:20250910T200000
DTSTAMP:20260420T170646
CREATED:20250906T230214Z
LAST-MODIFIED:20250906T230239Z
UID:2599-1757523600-1757534400@staging.whbowls.org.au
SUMMARY:Socal Tacos
DESCRIPTION:Authentic Southern Californian tacos\, nachos\, tortas and burrito bowls\, and a retro food truck available for Event hire\, Festivals & Special Events!!
URL:https://staging.whbowls.org.au/event/socal-tacos/
LOCATION:Wellers Hill Bowls Club\, 34 Esher Street\, Tarragindi\, Queensland\, 4121\, Australia
CATEGORIES:Food Trucks
END:VEVENT
BEGIN:VEVENT
DTSTART;TZID=Australia/Brisbane:20250910T170000
DTEND;TZID=Australia/Brisbane:20250910T200000
DTSTAMP:20260420T170646
CREATED:20250906T230214Z
LAST-MODIFIED:20250906T230239Z
UID:2599-1757523600-1757534400@staging.whbowls.org.au
SUMMARY:Socal Tacos
DESCRIPTION:Authentic Southern Californian tacos\, nachos\, tortas and burrito bowls\, and a retro food truck available for Event hire\, Festivals & Special Events!!
URL:https://staging.whbowls.org.au/event/socal-tacos/
LOCATION:Wellers Hill Bowls Club\, 34 Esher Street\, Tarragindi\, Queensland\, 4121\, Australia
CATEGORIES:Food Trucks
END:VEVENT
BEGIN:VEVENT
DTSTART;TZID=Australia/Brisbane:20251116T140000
DTEND;TZID=Australia/Brisbane:20251116T200000
DTSTAMP:20260420T170646
CREATED:20251116T045639Z
LAST-MODIFIED:20251116T045639Z
UID:3210-1763301600-1763323200@staging.whbowls.org.au
SUMMARY:Notorious E.A.T.
DESCRIPTION:Serving bold American street food with flair\, Notorious E.A.T. brings unforgettable eats straight to your event. From weddings and birthdays to corporate functions\, we roll in\, fire up\, and feed your crew with flavour-packed food that gets guests talking.\nWebsite: https://notoriouseat.com.au/
URL:https://staging.whbowls.org.au/event/notorious-e-a-t-2/
LOCATION:Wellers Hill Bowls Club\, 34 Esher Street\, Tarragindi\, Queensland\, 4121\, Australia
CATEGORIES:Food Trucks
END:VEVENT
BEGIN:VEVENT
DTSTART;TZID=Australia/Brisbane:20250910T170000
DTEND;TZID=Australia/Brisbane:20250910T200000
DTSTAMP:20260420T170646
CREATED:20250906T230214Z
LAST-MODIFIED:20250906T230239Z
UID:2599-1757523600-1757534400@staging.whbowls.org.au
SUMMARY:Socal Tacos
DESCRIPTION:Authentic Southern Californian tacos\, nachos\, tortas and burrito bowls\, and a retro food truck available for Event hire\, Festivals & Special Events!!
URL:https://staging.whbowls.org.au/event/socal-tacos/
LOCATION:Wellers Hill Bowls Club\, 34 Esher Street\, Tarragindi\, Queensland\, 4121\, Australia
CATEGORIES:Food Trucks
END:VEVENT
BEGIN:VEVENT
DTSTART;TZID=Australia/Brisbane:20250910T170000
DTEND;TZID=Australia/Brisbane:20250910T200000
DTSTAMP:20260420T170646
CREATED:20250906T230214Z
LAST-MODIFIED:20250906T230239Z
UID:2599-1757523600-1757534400@staging.whbowls.org.au
SUMMARY:Socal Tacos
DESCRIPTION:Authentic Southern Californian tacos\, nachos\, tortas and burrito bowls\, and a retro food truck available for Event hire\, Festivals & Special Events!!
URL:https://staging.whbowls.org.au/event/socal-tacos/
LOCATION:Wellers Hill Bowls Club\, 34 Esher Street\, Tarragindi\, Queensland\, 4121\, Australia
CATEGORIES:Food Trucks
END:VEVENT
BEGIN:VEVENT
DTSTART;TZID=Australia/Brisbane:20251127T180000
DTEND;TZID=Australia/Brisbane:20251127T200000
DTSTAMP:20260420T170646
CREATED:20251122T044433Z
LAST-MODIFIED:20251122T044433Z
UID:3235-1764266400-1764273600@staging.whbowls.org.au
SUMMARY:Socal Tacos
DESCRIPTION:Authentic Southern Californian tacos\, nachos\, tortas and burrito bowls\, and a retro food truck available for Event hire\, Festivals & Special Events!!
URL:https://staging.whbowls.org.au/event/socal-tacos-4/
LOCATION:Wellers Hill Bowls Club\, 34 Esher Street\, Tarragindi\, Queensland\, 4121\, Australia
CATEGORIES:Food Trucks
END:VEVENT
BEGIN:VEVENT
DTSTART;TZID=Australia/Brisbane:20251129T140000
DTEND;TZID=Australia/Brisbane:20251129T200000
DTSTAMP:20260420T170646
CREATED:20251122T045448Z
LAST-MODIFIED:20251122T045448Z
UID:3240-1764424800-1764446400@staging.whbowls.org.au
SUMMARY:Socal Tacos
DESCRIPTION:Authentic Southern Californian tacos\, nachos\, tortas and burrito bowls\, and a retro food truck available for Event hire\, Festivals & Special Events!!
URL:https://staging.whbowls.org.au/event/socal-tacos-5/
LOCATION:Wellers Hill Bowls Club\, 34 Esher Street\, Tarragindi\, Queensland\, 4121\, Australia
CATEGORIES:Food Trucks
END:VEVENT
END:VCALENDAR