BEGIN:VCALENDAR
VERSION:2.0
PRODID:-//Wellers Hill Bowls Club - ECPv6.15.16//NONSGML v1.0//EN
CALSCALE:GREGORIAN
METHOD:PUBLISH
X-ORIGINAL-URL:https://staging.whbowls.org.au
X-WR-CALDESC:Events for Wellers Hill Bowls Club
REFRESH-INTERVAL;VALUE=DURATION:PT1H
X-Robots-Tag:noindex
X-PUBLISHED-TTL:PT1H
BEGIN:VTIMEZONE
TZID:Australia/Brisbane
BEGIN:STANDARD
TZOFFSETFROM:+1000
TZOFFSETTO:+1000
TZNAME:AEST
DTSTART:20240101T000000
END:STANDARD
END:VTIMEZONE
BEGIN:VEVENT
DTSTART;TZID=Australia/Brisbane:20250921T140000
DTEND;TZID=Australia/Brisbane:20250921T200000
DTSTAMP:20260420T150716
CREATED:20250907T071631Z
LAST-MODIFIED:20250907T071631Z
UID:2675-1758463200-1758484800@staging.whbowls.org.au
SUMMARY:Notorious E.A.T.
DESCRIPTION:Serving bold American street food with flair\, Notorious E.A.T. brings unforgettable eats straight to your event. From weddings and birthdays to corporate functions\, we roll in\, fire up\, and feed your crew with flavour-packed food that gets guests talking.\nWebsite: https://notoriouseat.com.au/
URL:https://staging.whbowls.org.au/event/notorious-e-a-t/
LOCATION:Wellers Hill Bowls Club\, 34 Esher Street\, Tarragindi\, Queensland\, 4121\, Australia
CATEGORIES:Food Trucks
END:VEVENT
END:VCALENDAR