BEGIN:VCALENDAR
VERSION:2.0
PRODID:-//Wellers Hill Bowls Club - ECPv6.15.16//NONSGML v1.0//EN
CALSCALE:GREGORIAN
METHOD:PUBLISH
X-WR-CALNAME:Wellers Hill Bowls Club
X-ORIGINAL-URL:https://staging.whbowls.org.au
X-WR-CALDESC:Events for Wellers Hill Bowls Club
REFRESH-INTERVAL;VALUE=DURATION:PT1H
X-Robots-Tag:noindex
X-PUBLISHED-TTL:PT1H
BEGIN:VTIMEZONE
TZID:Australia/Brisbane
BEGIN:STANDARD
TZOFFSETFROM:+1000
TZOFFSETTO:+1000
TZNAME:AEST
DTSTART:20250101T000000
END:STANDARD
END:VTIMEZONE
BEGIN:VEVENT
DTSTART;TZID=Australia/Brisbane:20260306T170000
DTEND;TZID=Australia/Brisbane:20260306T200000
DTSTAMP:20260420T152205
CREATED:20260208T071907Z
LAST-MODIFIED:20260208T071907Z
UID:3387-1772816400-1772827200@staging.whbowls.org.au
SUMMARY:Toasted Foods
DESCRIPTION:TOASTED FOODS  serve gourmet loaded toasties\, or if you’re looking for something gluten free\, get your hands on our TFC crispy fried chicken wings\, loaded fries\, or slow cooked maple pork belly bites.
URL:https://staging.whbowls.org.au/event/toasted-foods-9/
LOCATION:Wellers Hill Bowls Club\, 34 Esher Street\, Tarragindi\, Queensland\, 4121\, Australia
CATEGORIES:Food Trucks
END:VEVENT
END:VCALENDAR